BEGIN:VCALENDAR
PRODID:\"-//Events Calendar//iCal4j 1.0//EN
VERSION:2.0
CALSCALE:GREGORIAN
BEGIN:VEVENT
DTSTAMP:20260421T041441Z
DTSTART:20260816T110000
DTEND:20260816T120000
SUMMARY:Sommermatinee | Renato Wiedemann
LOCATION:Grosser Saal
UID:20260421T041441Z-uidGen@apps56.mironet.ch
END:VEVENT
END:VCALENDAR
