BEGIN:VCALENDAR
PRODID:\"-//Events Calendar//iCal4j 1.0//EN
VERSION:2.0
CALSCALE:GREGORIAN
BEGIN:VEVENT
DTSTAMP:20260423T105219Z
DTSTART:20261202T181500
DTEND:20261202T194500
SUMMARY:Vorspielstunde Klavier | Klasse Keum-Ha Chai
LOCATION:Kleiner Saal
UID:20260423T105219Z-uidGen@apps56.mironet.ch
END:VEVENT
END:VCALENDAR
