BEGIN:VCALENDAR
PRODID:\"-//Events Calendar//iCal4j 1.0//EN
VERSION:2.0
CALSCALE:GREGORIAN
BEGIN:VEVENT
DTSTAMP:20260423T152331Z
DTSTART:20270307T170000
DTEND:20270307T190000
SUMMARY:Vorspielstunde Klarinette | Klasse Lanet Flores
LOCATION:Grosser Saal
UID:20260423T152331Z-uidGen@apps56.mironet.ch
END:VEVENT
END:VCALENDAR
