BEGIN:VCALENDAR
PRODID:\"-//Events Calendar//iCal4j 1.0//EN
VERSION:2.0
CALSCALE:GREGORIAN
BEGIN:VEVENT
DTSTAMP:20260420T172357Z
DTSTART:20260620T170000
DTEND:20260620T180000
SUMMARY:Musizierstunde Violine | Klasse Stefan Hulliger
LOCATION:Musiksaal\, Musikschule Riehen
UID:20260420T172357Z-uidGen@apps56.mironet.ch
END:VEVENT
END:VCALENDAR
