BEGIN:VCALENDAR
PRODID:\"-//Events Calendar//iCal4j 1.0//EN
VERSION:2.0
CALSCALE:GREGORIAN
BEGIN:VEVENT
DTSTAMP:20260420T184651Z
DTSTART:20260621T173000
DTEND:20260621T190000
SUMMARY:ami· e· s dans cette vie | Konzert KinderCappella &amp\; Jugendch
 or Saltando der Musikschule Basel. Andrea Knutti\, Emily Saville\, Tabea
  Schwartz\, Maria Laschinger\, Beat Vögele
LOCATION:Grosser Saal
DESCRIPTION:\n\nKlavier: Gabriel Walter (Saltando)
UID:20260420T184651Z-uidGen@apps56.mironet.ch
END:VEVENT
END:VCALENDAR
