BEGIN:VCALENDAR
PRODID:\"-//Events Calendar//iCal4j 1.0//EN
VERSION:2.0
CALSCALE:GREGORIAN
BEGIN:VEVENT
DTSTAMP:20260421T133818Z
DTSTART:20240617T170000
DTEND:20240617T183000
SUMMARY:Masterrezital | Victor Mériaux\, Viola da gamba. Klasse Paolo Pan
 dolfo
LOCATION:Zinzendorfhaus
DESCRIPTION:\n\nUnter freundlicher Mitwirkung von: Irina Olshevskaia (Ges
 ang)\; Talitha Witmer (Erzlaute)\; Feliks Antipov (Viola da gamba)\; Mel
 anie Flores Rodríguez (Cembalo)\; Diego Juan Chacón Gámez (Theorbe\, Bar
 ockgitarre)\; Diane Omer Nguyễn (Barocktanz)
UID:20260421T133818Z-uidGen@apps56.mironet.ch
END:VEVENT
END:VCALENDAR
