BEGIN:VCALENDAR
PRODID:\"-//Events Calendar//iCal4j 1.0//EN
VERSION:2.0
CALSCALE:GREGORIAN
BEGIN:VEVENT
DTSTAMP:20260421T030438Z
DTSTART:20260628T170000
DTEND:20260628T183000
SUMMARY:Masterrezital | David Emanuel Zehnder\, Chorleitung. Klasse Marti
 n Wettges
LOCATION:Grosser Saal
UID:20260421T030438Z-uidGen@apps56.mironet.ch
END:VEVENT
END:VCALENDAR
