BEGIN:VCALENDAR
PRODID:\"-//Events Calendar//iCal4j 1.0//EN
VERSION:2.0
CALSCALE:GREGORIAN
BEGIN:VEVENT
DTSTAMP:20260420T201159Z
DTSTART:20260622T181500
DTEND:20260622T210000
SUMMARY:Erstes Konzert Konzerttournée mit den Schüler und Schülerinnen de
 r Musikschule\, Klavier | Klasse Xavier Pfarrer
LOCATION:Grosser Saal
UID:20260420T201159Z-uidGen@apps56.mironet.ch
END:VEVENT
END:VCALENDAR
