BEGIN:VCALENDAR
PRODID:\"-//Events Calendar//iCal4j 1.0//EN
VERSION:2.0
CALSCALE:GREGORIAN
BEGIN:VEVENT
DTSTAMP:20260423T093754Z
DTSTART:20261119T181500
DTEND:20261119T200000
SUMMARY:Vorspielstunde Trompete | Klasse Jennifer Tauder-Ammann
LOCATION:Kleiner Saal
UID:20260423T093754Z-uidGen@apps56.mironet.ch
END:VEVENT
END:VCALENDAR
