BEGIN:VCALENDAR
PRODID:\"-//Events Calendar//iCal4j 1.0//EN
VERSION:2.0
CALSCALE:GREGORIAN
BEGIN:VEVENT
DTSTAMP:20260422T150202Z
DTSTART:20260614T140000
DTEND:20260614T180000
SUMMARY:Sommerfest mit Musik | Violin und Violaklasse Dominique Gisler
LOCATION:Sarasinpark
UID:20260422T150202Z-uidGen@apps56.mironet.ch
END:VEVENT
END:VCALENDAR
