BEGIN:VCALENDAR
PRODID:\"-//Events Calendar//iCal4j 1.0//EN
VERSION:2.0
CALSCALE:GREGORIAN
BEGIN:VEVENT
DTSTAMP:20260420T201102Z
DTSTART:20260622T181500
DTEND:20260622T230000
SUMMARY:Vorspielstunde Klavier  | Klasse Thomas Nüesch
LOCATION:Saal Haus Kleinbasel
UID:20260420T201102Z-uidGen@apps56.mironet.ch
END:VEVENT
END:VCALENDAR
