BEGIN:VCALENDAR
PRODID:\"-//Events Calendar//iCal4j 1.0//EN
VERSION:2.0
CALSCALE:GREGORIAN
BEGIN:VEVENT
DTSTAMP:20260421T001005Z
DTSTART:20260623T181500
DTEND:20260623T220000
SUMMARY:Vorspielstunde Querflöte | Klasse Matthias Ebner
LOCATION:Klaus Linder-Saal
UID:20260421T001005Z-uidGen@apps56.mironet.ch
END:VEVENT
END:VCALENDAR
