BEGIN:VCALENDAR
PRODID:\"-//Events Calendar//iCal4j 1.0//EN
VERSION:2.0
CALSCALE:GREGORIAN
BEGIN:VEVENT
DTSTAMP:20260420T155458Z
DTSTART:20260619T133000
DTEND:20260619T170000
SUMMARY:Masterprüfung | Enzo Sourhane\, Musiktheorie
LOCATION:6-401 HSM Theorieraum
UID:20260420T155458Z-uidGen@apps56.mironet.ch
END:VEVENT
END:VCALENDAR
