BEGIN:VCALENDAR
PRODID:\"-//Events Calendar//iCal4j 1.0//EN
VERSION:2.0
CALSCALE:GREGORIAN
BEGIN:VEVENT
DTSTAMP:20260420T160756Z
DTSTART:20260620T110000
DTEND:20260620T133000
SUMMARY:Vorspielstunde Violine | Klasse Dominik Stark
LOCATION:Neuer Saal
UID:20260420T160756Z-uidGen@apps56.mironet.ch
END:VEVENT
END:VCALENDAR
