BEGIN:VCALENDAR
PRODID:\"-//Events Calendar//iCal4j 1.0//EN
VERSION:2.0
CALSCALE:GREGORIAN
BEGIN:VEVENT
DTSTAMP:20260423T122238Z
DTSTART:20261214T190000
DTEND:20261214T200000
SUMMARY:Masterrezital  | Noemi Leoci\, Schulmusik. Klasse Giuseppe Feola
LOCATION:Klaus Linder-Saal
UID:20260423T122238Z-uidGen@apps56.mironet.ch
END:VEVENT
END:VCALENDAR
