BEGIN:VCALENDAR
PRODID:\"-//Events Calendar//iCal4j 1.0//EN
VERSION:2.0
CALSCALE:GREGORIAN
BEGIN:VEVENT
DTSTAMP:20260421T002008Z
DTSTART:20260625T181500
DTEND:20260625T193000
SUMMARY:Vorspielstunde Klavier | Klasse Ludovic van Hellemont
LOCATION:Studio Eckenstein
UID:20260421T002008Z-uidGen@apps56.mironet.ch
END:VEVENT
END:VCALENDAR
