BEGIN:VCALENDAR
PRODID:\"-//Events Calendar//iCal4j 1.0//EN
VERSION:2.0
CALSCALE:GREGORIAN
BEGIN:VEVENT
DTSTAMP:20260421T221208Z
DTSTART:20260610T181500
DTEND:20260610T211500
SUMMARY:Vorspielstunde Saxophon | Klasse Sandra Brigger
LOCATION:Saal Haus Kleinbasel
UID:20260421T221208Z-uidGen@apps56.mironet.ch
END:VEVENT
END:VCALENDAR
