BEGIN:VCALENDAR
PRODID:\"-//Events Calendar//iCal4j 1.0//EN
VERSION:2.0
CALSCALE:GREGORIAN
BEGIN:VEVENT
DTSTAMP:20260421T083129Z
DTSTART:20260416T190000
DTEND:20260416T200000
SUMMARY:Vorspielstunde Talent Förderung Klassik
LOCATION:6-301 Vortragssaal
UID:20260421T083129Z-uidGen@apps56.mironet.ch
END:VEVENT
END:VCALENDAR
