BEGIN:VCALENDAR
PRODID:\"-//Events Calendar//iCal4j 1.0//EN
VERSION:2.0
CALSCALE:GREGORIAN
BEGIN:VEVENT
DTSTAMP:20260420T085445Z
DTSTART:20260618T193000
DTEND:20260618T213000
SUMMARY:Vortagsabend Sprechen  | Klasse Heike Landbeck
LOCATION:Klaus Linder-Saal
UID:20260420T085445Z-uidGen@apps56.mironet.ch
END:VEVENT
END:VCALENDAR
