BEGIN:VCALENDAR
PRODID:\"-//Events Calendar//iCal4j 1.0//EN
VERSION:2.0
CALSCALE:GREGORIAN
BEGIN:VEVENT
DTSTAMP:20260423T082907Z
DTSTART:20261019T181500
DTEND:20261019T200000
SUMMARY:Gemischte Vorspielstunde
LOCATION:Saal Haus Kleinbasel
UID:20260423T082907Z-uidGen@apps56.mironet.ch
END:VEVENT
END:VCALENDAR
