BEGIN:VCALENDAR
PRODID:\"-//Events Calendar//iCal4j 1.0//EN
VERSION:2.0
CALSCALE:GREGORIAN
BEGIN:VEVENT
DTSTAMP:20260420T143019Z
DTSTART:20260619T100000
DTEND:20260619T130000
SUMMARY:Masterprüfung  | Inbar Sharet\, Musiktheorie
LOCATION:6-401 HSM Theorieraum
UID:20260420T143019Z-uidGen@apps56.mironet.ch
END:VEVENT
END:VCALENDAR
