BEGIN:VCALENDAR
PRODID:\"-//Events Calendar//iCal4j 1.0//EN
VERSION:2.0
CALSCALE:GREGORIAN
BEGIN:VEVENT
DTSTAMP:20260420T172829Z
DTSTART:20260620T181500
DTEND:20260620T203000
SUMMARY:Vorspielstunde Klavier  | Klasse Fiore Favaro
LOCATION:Neuer Saal
UID:20260420T172829Z-uidGen@apps56.mironet.ch
END:VEVENT
END:VCALENDAR
