BEGIN:VCALENDAR
PRODID:\"-//Events Calendar//iCal4j 1.0//EN
VERSION:2.0
CALSCALE:GREGORIAN
BEGIN:VEVENT
DTSTAMP:20260421T053307Z
DTSTART:20260915T181500
DTEND:20260915T191500
SUMMARY:Vorspielstunde Schlagzeug | Klasse Fran Lorkovic
LOCATION:Jazzcampus Performance Stage
UID:20260421T053307Z-uidGen@apps56.mironet.ch
END:VEVENT
END:VCALENDAR
