BEGIN:VCALENDAR
PRODID:\"-//Events Calendar//iCal4j 1.0//EN
VERSION:2.0
CALSCALE:GREGORIAN
BEGIN:VEVENT
DTSTAMP:20260421T070241Z
DTSTART:20260917T181500
DTEND:20260917T200000
SUMMARY:Vorspielstunde Fagott | Klasse Letizia Viola
LOCATION:Kleiner Saal
UID:20260421T070241Z-uidGen@apps56.mironet.ch
END:VEVENT
END:VCALENDAR
