BEGIN:VCALENDAR
PRODID:\"-//Events Calendar//iCal4j 1.0//EN
VERSION:2.0
CALSCALE:GREGORIAN
BEGIN:VEVENT
DTSTAMP:20260420T224639Z
DTSTART:20260624T170000
DTEND:20260624T180000
SUMMARY:Abschlusskonzert | Singkreise\, Kinder- und Jugendchöre der Musik
 schule Riehen
LOCATION:Musiksaal und Park\, Musikschule Riehen
DESCRIPTION:\n\nLeitung Barbara Mall und Timon Eiche
UID:20260420T224639Z-uidGen@apps56.mironet.ch
END:VEVENT
END:VCALENDAR
